BEGIN:VCALENDAR
VERSION:2.0
PRODID:-//sevgiaksugelisimakademi - ECPv6.3.2//NONSGML v1.0//EN
CALSCALE:GREGORIAN
METHOD:PUBLISH
X-ORIGINAL-URL:https://sevgiaksugelisimakademi.com
X-WR-CALDESC:sevgiaksugelisimakademi için etkinlikler
REFRESH-INTERVAL;VALUE=DURATION:PT1H
X-Robots-Tag:noindex
X-PUBLISHED-TTL:PT1H
BEGIN:VTIMEZONE
TZID:Europe/Moscow
BEGIN:STANDARD
TZOFFSETFROM:+0300
TZOFFSETTO:+0300
TZNAME:MSK
DTSTART:20240101T000000
END:STANDARD
END:VTIMEZONE
BEGIN:VEVENT
DTSTART;TZID=Europe/Moscow:20240228T200000
DTEND;TZID=Europe/Moscow:20240228T210000
DTSTAMP:20260421T191621
CREATED:20240208T150127Z
LAST-MODIFIED:20240208T150448Z
UID:5788-1709150400-1709154000@sevgiaksugelisimakademi.com
SUMMARY:Zor Zamanlarda Işığını Bulma Sanatı
DESCRIPTION:Karanlık Günleri Aydınlığa Birlikte Çıkaralım! ❤ Hayatın bize zorlu dönemler sunduğu nice günümüz oldu. Bugün de o günlerden biri. İçimizdeki ışığı bulmak zor gibi görünebilir ama kendimize olan bağımızı güçlendirmek ve hayata sıkı sıkıya sarılmak sağlığımız için önemlidir. \nSenin için kucaklayıcı ve destekleyici bir atölye oluşturduk: “Zor Zamanlarda Işığınızı Bulma Sanatı” \nBir yoga eğitmeni ve bir yaşam koçu olarak\, kendi edindiğimiz bilgilerden ve kalbimizden yola çıkarak bu atölyeyi tasarladık. \nAtölyede Seni Neler Bekliyor? \nYoga pratiği ve içsel keşif çalışmalarıyla\, içindeki şifacı gücü nasıl ortaya çıkarabileceğini\, yaralarını nasıl sarabileceğini birlikte bulacağız. \n🌟 Tarih ve Saat: 28 Şubat 2024\, 20:00 \n🌿 Yer: Online (Linki whatsapp grubundan ileteceğiz) \nAtölyede Birlikte Neler Yapacağız? 🫂 \n✨ Zor zamanlarda içsel gücünü nasıl bulacağını keşfedeceğiz\n✨ Nefes çalışmalarıyla bedenini güçlendirecek ve zihnini sakinleştireceğiz\n✨ Kendine derinlemesine bakarak\, içindeki ışığı nasıl parlatabileceğini öğreneceğiz\n✨ Birbirimizi dinleyerek\, birlikte büyüyecek ve destekleyeceğiz \nBu atölyeyle şefkat dolu bir ortamda samimi bir deneyim sunmayı hedefledik. Seni de aramızda görmek ve birlikte büyümek için sabırsızlanıyoruz. \nKatılım için ön kaydınızı yapalım. Daha fazla bilgi için bize ulaşın. 🥰
URL:https://sevgiaksugelisimakademi.com/etkinlik/zor-zamanlarda-isigini-bulma-sanati/
ATTACH;FMTTYPE=image/png:https://sevgiaksugelisimakademi.com/wp-content/uploads/2024/02/IMG_1673.png
END:VEVENT
END:VCALENDAR