BEGIN:VCALENDAR
VERSION:2.0
PRODID:-//sevgiaksugelisimakademi - ECPv6.3.2//NONSGML v1.0//EN
CALSCALE:GREGORIAN
METHOD:PUBLISH
X-WR-CALNAME:sevgiaksugelisimakademi
X-ORIGINAL-URL:https://sevgiaksugelisimakademi.com
X-WR-CALDESC:sevgiaksugelisimakademi için etkinlikler
REFRESH-INTERVAL;VALUE=DURATION:PT1H
X-Robots-Tag:noindex
X-PUBLISHED-TTL:PT1H
BEGIN:VTIMEZONE
TZID:Europe/Moscow
BEGIN:STANDARD
TZOFFSETFROM:+0300
TZOFFSETTO:+0300
TZNAME:MSK
DTSTART:20240101T000000
END:STANDARD
END:VTIMEZONE
BEGIN:VEVENT
DTSTART;TZID=Europe/Moscow:20240926T120000
DTEND;TZID=Europe/Moscow:20240929T120000
DTSTAMP:20260421T151717
CREATED:20241008T101805Z
LAST-MODIFIED:20241008T110813Z
UID:6130-1727352000-1727611200@sevgiaksugelisimakademi.com
SUMMARY:Kahkaha Dolu Bir Yoga Kampı | Aile Dizimi İle
DESCRIPTION:Sevgili ruh\,\nKahkaha ve nefesin mucizesini keşfetmeye hazır mısın? 26-29 Eylül tarihleri arasında\, doğanın kalbinde gerçekleştireceğimiz bu özel yoga kampında\, derin nefes çalışmaları\, yoga pratikleri ve Aile Dizimi seanslarıyla kendi içsel dengeni bulacak\, neşe ve huzurun tadını çıkaracaksın. \nKendinle\, nefesinle ve kahkahanla daha derin bir bağ kurmak için bu yolculukta bize eşlik etmeye davet ediyoruz.\nSeninle bu yolda buluşmak için sabırsızlanıyoruz.\nSevgi ve ışıkla\, \n📆 26 – 29 Eylül 2024\n⏰ 3 Gece 4 Gün (Perşembe – Cuma – Cumartesi – Pazar)\n📍 Fikri Atalay Konağı / Bolu – Mengen\n👩 Kamp Eğitmeni: Selin AKRAY (Yoga Eğitmeni\, Reiki Uygulayıcısı)\n👩 Davetli Eğitmen: Sevgi AKSU (Aile Dizimi Uygulayıcısı\, MYK Koç)\nKontenjan sınırlı sayıdadır.
URL:https://sevgiaksugelisimakademi.com/etkinlik/kahkaha-dolu-bir-yoga-kampi-aile-dizimi-ile/
ATTACH;FMTTYPE=image/png:https://sevgiaksugelisimakademi.com/wp-content/uploads/2024/10/kamp-.png
END:VEVENT
END:VCALENDAR